BEGIN:VCALENDAR
VERSION:2.0
PRODID:-//William Coulter - ECPv5.12.4//NONSGML v1.0//EN
CALSCALE:GREGORIAN
METHOD:PUBLISH
X-WR-CALNAME:William Coulter
X-ORIGINAL-URL:https://williamcoulterguitar.com
X-WR-CALDESC:Events for William Coulter
BEGIN:VTIMEZONE
TZID:UTC
BEGIN:STANDARD
TZOFFSETFROM:+0000
TZOFFSETTO:+0000
TZNAME:UTC
DTSTART:20180101T000000
END:STANDARD
END:VTIMEZONE
BEGIN:VEVENT
DTSTART;TZID=UTC:20180315T000000
DTEND;TZID=UTC:20180315T220200
DTSTAMP:20260421T110101
CREATED:20180315T220221Z
LAST-MODIFIED:20180315T220246Z
UID:626-1521072000-1521151320@williamcoulterguitar.com
SUMMARY:The Paris Center of Fine Arts
DESCRIPTION:
URL:https://williamcoulterguitar.com/event/626/
LOCATION:The Paris Center of Fine Arts\, Paris\, Il
END:VEVENT
END:VCALENDAR