BEGIN:VCALENDAR
VERSION:2.0
PRODID:-//William Coulter - ECPv5.12.4//NONSGML v1.0//EN
CALSCALE:GREGORIAN
METHOD:PUBLISH
X-WR-CALNAME:William Coulter
X-ORIGINAL-URL:https://williamcoulterguitar.com
X-WR-CALDESC:Events for William Coulter
BEGIN:VTIMEZONE
TZID:UTC
BEGIN:STANDARD
TZOFFSETFROM:+0000
TZOFFSETTO:+0000
TZNAME:UTC
DTSTART:20190101T000000
END:STANDARD
END:VTIMEZONE
BEGIN:VEVENT
DTSTART;TZID=UTC:20191206T190000
DTEND;TZID=UTC:20191206T210000
DTSTAMP:20260421T094717
CREATED:20191113T175850Z
LAST-MODIFIED:20191114T212229Z
UID:766-1575658800-1575666000@williamcoulterguitar.com
SUMMARY:Tomáseen Foley's "A Celtic Christmas" Solon\, OH
DESCRIPTION:2019\, Our 24th Year!
URL:https://williamcoulterguitar.com/event/a-celtic-christmas-2/
LOCATION:Church of the Resurrection\, 32001 Cannon\, Solon\, OH\, 44139\, United States
CATEGORIES:Celtic Christmas
END:VEVENT
END:VCALENDAR