BEGIN:VCALENDAR
VERSION:2.0
PRODID:-//William Coulter - ECPv5.12.4//NONSGML v1.0//EN
CALSCALE:GREGORIAN
METHOD:PUBLISH
X-WR-CALNAME:William Coulter
X-ORIGINAL-URL:https://williamcoulterguitar.com
X-WR-CALDESC:Events for William Coulter
BEGIN:VTIMEZONE
TZID:America/New_York
BEGIN:DAYLIGHT
TZOFFSETFROM:-0500
TZOFFSETTO:-0400
TZNAME:EDT
DTSTART:20190310T070000
END:DAYLIGHT
BEGIN:STANDARD
TZOFFSETFROM:-0400
TZOFFSETTO:-0500
TZNAME:EST
DTSTART:20191103T060000
END:STANDARD
END:VTIMEZONE
BEGIN:VEVENT
DTSTART;TZID=America/New_York:20191201T150000
DTEND;TZID=America/New_York:20191201T170000
DTSTAMP:20260421T094634
CREATED:20191113T172642Z
LAST-MODIFIED:20191114T212247Z
UID:751-1575212400-1575219600@williamcoulterguitar.com
SUMMARY:Tomáseen Foley's "A Celtic Christmas" Rockville Centre\, NY
DESCRIPTION:
URL:https://williamcoulterguitar.com/event/a-celtic-christmas-3/
LOCATION:Madison Theatre at Molloy College\, 1000 Hempstead Avenue\, Rockville Centre\, New York\, 11570\, United States
CATEGORIES:Celtic Christmas
END:VEVENT
END:VCALENDAR