BEGIN:VCALENDAR
VERSION:2.0
PRODID:-//William Coulter - ECPv5.12.4//NONSGML v1.0//EN
CALSCALE:GREGORIAN
METHOD:PUBLISH
X-WR-CALNAME:William Coulter
X-ORIGINAL-URL:https://williamcoulterguitar.com
X-WR-CALDESC:Events for William Coulter
BEGIN:VTIMEZONE
TZID:UTC
BEGIN:STANDARD
TZOFFSETFROM:+0000
TZOFFSETTO:+0000
TZNAME:UTC
DTSTART:20160101T000000
END:STANDARD
END:VTIMEZONE
BEGIN:VEVENT
DTSTART;TZID=UTC:20160305T193000
DTEND;TZID=UTC:20160305T193000
DTSTAMP:20260421T192114
CREATED:20151020T204958Z
LAST-MODIFIED:20151020T204958Z
UID:418-1457206200-1457206200@williamcoulterguitar.com
SUMMARY:A Celtic Journey - William Coulter & The Omaha Symphony!
DESCRIPTION:This is a really exciting project for me. I have been asked by the Omaha Symphony and concert master Susanna Gilmore to create a new full length production called \nA Celtic Journey \nFull symphony orchestra meets traditional Irish band\, singers\, dancer and storyteller. Soloist include\, Tomaseen Foley\,  Susanna Gilmore\, Brian Bigley\, Samantha Harvey\, Eilis Kennedy\, Ross Hauck and lead dancer Garrett Coleman. It’s going to be spectacular! \nMarch 5th at 7:30 and March 6th at 2pm.
URL:https://williamcoulterguitar.com/event/a-celtic-journey-william-coulter-the-omaha-symphony/
END:VEVENT
END:VCALENDAR