BEGIN:VCALENDAR
VERSION:2.0
PRODID:-//William Coulter - ECPv5.12.4//NONSGML v1.0//EN
CALSCALE:GREGORIAN
METHOD:PUBLISH
X-WR-CALNAME:William Coulter
X-ORIGINAL-URL:https://williamcoulterguitar.com
X-WR-CALDESC:Events for William Coulter
BEGIN:VTIMEZONE
TZID:UTC
BEGIN:STANDARD
TZOFFSETFROM:+0000
TZOFFSETTO:+0000
TZNAME:UTC
DTSTART:20220101T000000
END:STANDARD
END:VTIMEZONE
BEGIN:VEVENT
DTSTART;TZID=UTC:20220318T193000
DTEND;TZID=UTC:20220318T213000
DTSTAMP:20260421T112948
CREATED:20220122T223404Z
LAST-MODIFIED:20220122T223404Z
UID:1507-1647631800-1647639000@williamcoulterguitar.com
SUMMARY:An Irish Rambling House
DESCRIPTION:With Tomaseen Foley\, Brian Bigley\, Eimear Arkins and more. At the Tower Theater in Bend OR
URL:https://williamcoulterguitar.com/event/an-irish-rambling-house-3/
END:VEVENT
END:VCALENDAR