BEGIN:VCALENDAR
VERSION:2.0
PRODID:-//William Coulter - ECPv5.12.4//NONSGML v1.0//EN
CALSCALE:GREGORIAN
METHOD:PUBLISH
X-WR-CALNAME:William Coulter
X-ORIGINAL-URL:https://williamcoulterguitar.com
X-WR-CALDESC:Events for William Coulter
BEGIN:VTIMEZONE
TZID:UTC
BEGIN:STANDARD
TZOFFSETFROM:+0000
TZOFFSETTO:+0000
TZNAME:UTC
DTSTART:20220101T000000
END:STANDARD
END:VTIMEZONE
BEGIN:VEVENT
DTSTART;TZID=UTC:20220313T140000
DTEND;TZID=UTC:20220313T163000
DTSTAMP:20260421T083055
CREATED:20220122T222654Z
LAST-MODIFIED:20220122T222654Z
UID:1499-1647180000-1647189000@williamcoulterguitar.com
SUMMARY:An Irish Rambling House
DESCRIPTION:With Tomaseen Foley\, Brian Bigley\, Eimear Arkins and more!
URL:https://williamcoulterguitar.com/event/an-irish-rambling-house/
LOCATION:Homestake Opera House\, 313 West Main Street\, Lead\, South Dakota
END:VEVENT
END:VCALENDAR