BEGIN:VCALENDAR
VERSION:2.0
PRODID:-//William Coulter - ECPv5.12.4//NONSGML v1.0//EN
CALSCALE:GREGORIAN
METHOD:PUBLISH
X-WR-CALNAME:William Coulter
X-ORIGINAL-URL:https://williamcoulterguitar.com
X-WR-CALDESC:Events for William Coulter
BEGIN:VTIMEZONE
TZID:UTC
BEGIN:STANDARD
TZOFFSETFROM:+0000
TZOFFSETTO:+0000
TZNAME:UTC
DTSTART:20180101T000000
END:STANDARD
END:VTIMEZONE
BEGIN:VEVENT
DTSTART;VALUE=DATE:20180610
DTEND;VALUE=DATE:20180617
DTSTAMP:20260421T095515
CREATED:20180225T230831Z
LAST-MODIFIED:20191113T203229Z
UID:580-1528588800-1529193599@williamcoulterguitar.com
SUMMARY:Big Sur Fiddle Camp
DESCRIPTION:
URL:https://williamcoulterguitar.com/event/big-sur-fiddle-camp/
LOCATION:Big Sur Fiddle Camp\, Big Sur\, CA\, 93920\, United States
CATEGORIES:William Coulter
END:VEVENT
END:VCALENDAR