BEGIN:VCALENDAR
VERSION:2.0
PRODID:-//William Coulter - ECPv5.12.4//NONSGML v1.0//EN
CALSCALE:GREGORIAN
METHOD:PUBLISH
X-WR-CALNAME:William Coulter
X-ORIGINAL-URL:https://williamcoulterguitar.com
X-WR-CALDESC:Events for William Coulter
BEGIN:VTIMEZONE
TZID:UTC
BEGIN:STANDARD
TZOFFSETFROM:+0000
TZOFFSETTO:+0000
TZNAME:UTC
DTSTART:20180101T000000
END:STANDARD
END:VTIMEZONE
BEGIN:VEVENT
DTSTART;VALUE=DATE:20180322
DTEND;VALUE=DATE:20180323
DTSTAMP:20260421T142911
CREATED:20180315T221415Z
LAST-MODIFIED:20180315T221415Z
UID:649-1521676800-1521763199@williamcoulterguitar.com
SUMMARY:Canadian Opera Company Free Concert Series
DESCRIPTION:Touring with Edwin Huizinga: Fire and Grace
URL:https://williamcoulterguitar.com/event/canadian-opera-company-free-concert-series/
LOCATION:Canadian Opera\, Toronto\, ON\, Canada
END:VEVENT
END:VCALENDAR