BEGIN:VCALENDAR
VERSION:2.0
PRODID:-//William Coulter - ECPv5.12.4//NONSGML v1.0//EN
CALSCALE:GREGORIAN
METHOD:PUBLISH
X-WR-CALNAME:William Coulter
X-ORIGINAL-URL:https://williamcoulterguitar.com
X-WR-CALDESC:Events for William Coulter
BEGIN:VTIMEZONE
TZID:UTC
BEGIN:STANDARD
TZOFFSETFROM:+0000
TZOFFSETTO:+0000
TZNAME:UTC
DTSTART:20150101T000000
END:STANDARD
END:VTIMEZONE
BEGIN:VEVENT
DTSTART;TZID=UTC:20150212T173000
DTEND;TZID=UTC:20150212T190000
DTSTAMP:20260421T160318
CREATED:20150115T185211Z
LAST-MODIFIED:20150115T185509Z
UID:343-1423762200-1423767600@williamcoulterguitar.com
SUMMARY:William Coulter & Edwin Huizinga Carmel Bach Festival
DESCRIPTION:I will be teaming up with an amazing violinist – Edwin Huizinga for this concert in Carmel as part of the Carmel Bach Festival. Playing Celtic and Classical Folk Baroque Fusion! Edwin will also be playing with the gifted pianist Ian Scarfe. \n 
URL:https://williamcoulterguitar.com/event/carmel-bach-festival-concert-in-carmel-ca/
END:VEVENT
END:VCALENDAR