BEGIN:VCALENDAR
VERSION:2.0
PRODID:-//William Coulter - ECPv5.12.4//NONSGML v1.0//EN
CALSCALE:GREGORIAN
METHOD:PUBLISH
X-WR-CALNAME:William Coulter
X-ORIGINAL-URL:https://williamcoulterguitar.com
X-WR-CALDESC:Events for William Coulter
BEGIN:VTIMEZONE
TZID:UTC
BEGIN:STANDARD
TZOFFSETFROM:+0000
TZOFFSETTO:+0000
TZNAME:UTC
DTSTART:20190101T000000
END:STANDARD
END:VTIMEZONE
BEGIN:VEVENT
DTSTART;TZID=UTC:20191213T200000
DTEND;TZID=UTC:20191213T220000
DTSTAMP:20260419T135632
CREATED:20191113T180642Z
LAST-MODIFIED:20191114T212205Z
UID:772-1576267200-1576274400@williamcoulterguitar.com
SUMMARY:Tomáseen Foley's "A Celtic Christmas" Keene\, NH
DESCRIPTION:2019\, Our 24th Year!
URL:https://williamcoulterguitar.com/event/celtic-christmas-4/
LOCATION:The Colonial Theatre\, 95 Main Street\, Keene\, New Hampshire\, 03431\, United States
CATEGORIES:Celtic Christmas
END:VEVENT
END:VCALENDAR