BEGIN:VCALENDAR
VERSION:2.0
PRODID:-//William Coulter - ECPv5.12.4//NONSGML v1.0//EN
CALSCALE:GREGORIAN
METHOD:PUBLISH
X-WR-CALNAME:William Coulter
X-ORIGINAL-URL:https://williamcoulterguitar.com
X-WR-CALDESC:Events for William Coulter
BEGIN:VTIMEZONE
TZID:UTC
BEGIN:STANDARD
TZOFFSETFROM:+0000
TZOFFSETTO:+0000
TZNAME:UTC
DTSTART:20190101T000000
END:STANDARD
END:VTIMEZONE
BEGIN:VEVENT
DTSTART;TZID=UTC:20191215T130000
DTEND;TZID=UTC:20191215T150000
DTSTAMP:20260421T082911
CREATED:20191113T180931Z
LAST-MODIFIED:20191114T212151Z
UID:776-1576414800-1576422000@williamcoulterguitar.com
SUMMARY:Tomáseen Foley's "A Celtic Christmas" Largo\, FL
DESCRIPTION:2019\, Our 24th Year!
URL:https://williamcoulterguitar.com/event/celtic-christmas-5/
LOCATION:Central Park Performing Arts Center\, 105 Central Park Drive\, Largo\, Florida\, 33771\, United States
CATEGORIES:Celtic Christmas
END:VEVENT
END:VCALENDAR