BEGIN:VCALENDAR
VERSION:2.0
PRODID:-//William Coulter - ECPv5.12.4//NONSGML v1.0//EN
CALSCALE:GREGORIAN
METHOD:PUBLISH
X-WR-CALNAME:William Coulter
X-ORIGINAL-URL:https://williamcoulterguitar.com
X-WR-CALDESC:Events for William Coulter
BEGIN:VTIMEZONE
TZID:UTC
BEGIN:STANDARD
TZOFFSETFROM:+0000
TZOFFSETTO:+0000
TZNAME:UTC
DTSTART:20190101T000000
END:STANDARD
END:VTIMEZONE
BEGIN:VEVENT
DTSTART;TZID=UTC:20191219T193000
DTEND;TZID=UTC:20191219T213000
DTSTAMP:20260421T110041
CREATED:20191113T181245Z
LAST-MODIFIED:20191114T212134Z
UID:780-1576783800-1576791000@williamcoulterguitar.com
SUMMARY:Tomáseen Foley's "A Celtic Christmas" in Mountain View\, CA
DESCRIPTION:2019\, Our 24th Year!
URL:https://williamcoulterguitar.com/event/celtic-christmas-6/
LOCATION:Mountain View Center for the Performing Arts\, 500 Castro Street\, Mountain View\, CA\, 94041\, United States
CATEGORIES:Celtic Christmas
END:VEVENT
END:VCALENDAR