BEGIN:VCALENDAR
VERSION:2.0
PRODID:-//William Coulter - ECPv5.12.4//NONSGML v1.0//EN
CALSCALE:GREGORIAN
METHOD:PUBLISH
X-WR-CALNAME:William Coulter
X-ORIGINAL-URL:https://williamcoulterguitar.com
X-WR-CALDESC:Events for William Coulter
BEGIN:VTIMEZONE
TZID:UTC
BEGIN:STANDARD
TZOFFSETFROM:+0000
TZOFFSETTO:+0000
TZNAME:UTC
DTSTART:20200101T000000
END:STANDARD
END:VTIMEZONE
BEGIN:VEVENT
DTSTART;TZID=UTC:20200314T200000
DTEND;TZID=UTC:20200314T200000
DTSTAMP:20260421T083235
CREATED:20200222T205154Z
LAST-MODIFIED:20200222T211501Z
UID:1444-1584216000-1584216000@williamcoulterguitar.com
SUMMARY:Celtic Journey with the Nashville Symphony
DESCRIPTION:Join us for an Irish trad meets Symphony Experience!
URL:https://williamcoulterguitar.com/event/celtic-journey-with-the-nashville-symphony-3/
LOCATION:Schermerhorn Symphony Center\, Nashville
END:VEVENT
END:VCALENDAR