BEGIN:VCALENDAR
VERSION:2.0
PRODID:-//William Coulter - ECPv5.12.4//NONSGML v1.0//EN
CALSCALE:GREGORIAN
METHOD:PUBLISH
X-WR-CALNAME:William Coulter
X-ORIGINAL-URL:https://williamcoulterguitar.com
X-WR-CALDESC:Events for William Coulter
BEGIN:VTIMEZONE
TZID:UTC
BEGIN:STANDARD
TZOFFSETFROM:+0000
TZOFFSETTO:+0000
TZNAME:UTC
DTSTART:20140101T000000
END:STANDARD
END:VTIMEZONE
BEGIN:VEVENT
DTSTART;VALUE=DATE:20140616
DTEND;VALUE=DATE:20140622
DTSTAMP:20260421T191904
CREATED:20140125T231739Z
LAST-MODIFIED:20140125T231739Z
UID:160-1402876800-1403395199@williamcoulterguitar.com
SUMMARY:Celtic Music Camp for Teens
DESCRIPTION:I’ll be teaching at the Santa Cruz Community Music School’s annual Teen Celtic Camp.  This a great camp for kids who want to learn tunes! Also teaching will be: \nJesse Autumn – harp\, accordion\, keyboards\nDavid Brewer – winds\nJohn Weed – fiddle\nLisa Gilberg – viola\nAria Di Salvo – cello\nBob McMurtry – Scottish dance\nPauline Hingston – Irish dance\nShelley Phillips – Shape-note singing and flute-making class
URL:https://williamcoulterguitar.com/event/celtic-music-camp-for-teens/
LOCATION:Sempervirens Outdoor School\, 20161 Big Basin Hwy
END:VEVENT
END:VCALENDAR