BEGIN:VCALENDAR
VERSION:2.0
PRODID:-//William Coulter - ECPv5.12.4//NONSGML v1.0//EN
CALSCALE:GREGORIAN
METHOD:PUBLISH
X-WR-CALNAME:William Coulter
X-ORIGINAL-URL:https://williamcoulterguitar.com
X-WR-CALDESC:Events for William Coulter
BEGIN:VTIMEZONE
TZID:UTC
BEGIN:STANDARD
TZOFFSETFROM:+0000
TZOFFSETTO:+0000
TZNAME:UTC
DTSTART:20200101T000000
END:STANDARD
END:VTIMEZONE
BEGIN:VEVENT
DTSTART;TZID=UTC:20200318T190000
DTEND;TZID=UTC:20200318T190000
DTSTAMP:20260421T110715
CREATED:20200222T210412Z
LAST-MODIFIED:20200222T211259Z
UID:1458-1584558000-1584558000@williamcoulterguitar.com
SUMMARY:Coulter / Bigley / Arkins
DESCRIPTION:Arkins\, Bigley\, and Coulter are an energetic folk music and dance trio. All are principal musicians with the uniquely moving productions “Rambling House” and Tomaseen Foley’s “A Celtic Christmas.”
URL:https://williamcoulterguitar.com/event/coulter-bigley-arkins/
LOCATION:Grizzly Peak Winery\, Ashland\, Oregon
END:VEVENT
END:VCALENDAR