BEGIN:VCALENDAR
VERSION:2.0
PRODID:-//William Coulter - ECPv5.12.4//NONSGML v1.0//EN
CALSCALE:GREGORIAN
METHOD:PUBLISH
X-WR-CALNAME:William Coulter
X-ORIGINAL-URL:https://williamcoulterguitar.com
X-WR-CALDESC:Events for William Coulter
BEGIN:VTIMEZONE
TZID:UTC
BEGIN:STANDARD
TZOFFSETFROM:+0000
TZOFFSETTO:+0000
TZNAME:UTC
DTSTART:20140101T000000
END:STANDARD
END:VTIMEZONE
BEGIN:VEVENT
DTSTART;TZID=UTC:20140201T190000
DTEND;TZID=UTC:20140201T190000
DTSTAMP:20260421T173644
CREATED:20140109T000317Z
LAST-MODIFIED:20140112T181507Z
UID:93-1391281200-1391281200@williamcoulterguitar.com
SUMMARY:Coulter / Weed / DiSalvio Trio
DESCRIPTION:At St Andrews Episcopal Church in San Bruno\nPresented by the Peninsula Guitar Series.\nSharing the concert will be finger-style guitar master Teja Gerkin\nwww.tejagerken.com
URL:https://williamcoulterguitar.com/event/coulter-weed-disalvio-trio/
LOCATION:St Andrews Episcopal Church\, 1600 Santa Lucia Avenue\,   San Bruno\, CA\, United States
END:VEVENT
END:VCALENDAR