BEGIN:VCALENDAR
VERSION:2.0
PRODID:-//William Coulter - ECPv5.12.4//NONSGML v1.0//EN
CALSCALE:GREGORIAN
METHOD:PUBLISH
X-WR-CALNAME:William Coulter
X-ORIGINAL-URL:https://williamcoulterguitar.com
X-WR-CALDESC:Events for William Coulter
BEGIN:VTIMEZONE
TZID:UTC
BEGIN:STANDARD
TZOFFSETFROM:+0000
TZOFFSETTO:+0000
TZNAME:UTC
DTSTART:20140101T000000
END:STANDARD
END:VTIMEZONE
BEGIN:VEVENT
DTSTART;TZID=UTC:20140131T193000
DTEND;TZID=UTC:20140131T193000
DTSTAMP:20260421T173407
CREATED:20140107T224624Z
LAST-MODIFIED:20140109T000617Z
UID:82-1391196600-1391196600@williamcoulterguitar.com
SUMMARY:Coulter/Weed/DiSalvio Trio
DESCRIPTION:At the UCSC Music Center Recital Hall. Sharing this concert will be virtuoso classical violinist Roy Malan.
URL:https://williamcoulterguitar.com/event/coulterweeddisalvio/
LOCATION:Recital Hall – UCSC Music Center\, UCSC\, Santa Cruz\, CA\, United States
END:VEVENT
END:VCALENDAR