BEGIN:VCALENDAR
VERSION:2.0
PRODID:-//William Coulter - ECPv5.12.4//NONSGML v1.0//EN
CALSCALE:GREGORIAN
METHOD:PUBLISH
X-WR-CALNAME:William Coulter
X-ORIGINAL-URL:https://williamcoulterguitar.com
X-WR-CALDESC:Events for William Coulter
BEGIN:VTIMEZONE
TZID:UTC
BEGIN:STANDARD
TZOFFSETFROM:+0000
TZOFFSETTO:+0000
TZNAME:UTC
DTSTART:20190101T000000
END:STANDARD
END:VTIMEZONE
BEGIN:VEVENT
DTSTART;TZID=UTC:20190610T200000
DTEND;TZID=UTC:20190610T220000
DTSTAMP:20260421T122319
CREATED:20190604T002524Z
LAST-MODIFIED:20191113T203143Z
UID:727-1560196800-1560204000@williamcoulterguitar.com
SUMMARY:Fire & Grace & Ash
DESCRIPTION:At the legendary Club Passim in Cambridge MA.
URL:https://williamcoulterguitar.com/event/fire-grace-ash-2/
LOCATION:Club Passim\, 47 Palmer St\, Cambridge\, MA\, 02138
CATEGORIES:Fire & Grace & Ash
END:VEVENT
END:VCALENDAR