BEGIN:VCALENDAR
VERSION:2.0
PRODID:-//William Coulter - ECPv5.12.4//NONSGML v1.0//EN
CALSCALE:GREGORIAN
METHOD:PUBLISH
X-WR-CALNAME:William Coulter
X-ORIGINAL-URL:https://williamcoulterguitar.com
X-WR-CALDESC:Events for William Coulter
BEGIN:VTIMEZONE
TZID:UTC
BEGIN:STANDARD
TZOFFSETFROM:+0000
TZOFFSETTO:+0000
TZNAME:UTC
DTSTART:20220101T000000
END:STANDARD
END:VTIMEZONE
BEGIN:VEVENT
DTSTART;TZID=UTC:20220427T193000
DTEND;TZID=UTC:20220427T213000
DTSTAMP:20260421T110350
CREATED:20220122T235516Z
LAST-MODIFIED:20220123T000324Z
UID:1516-1651087800-1651095000@williamcoulterguitar.com
SUMMARY:Fire & Grace & Ash
DESCRIPTION:At the Kuumbwa Jazz Center in Santa Cruz – Bach\, Americana\, and beyond!
URL:https://williamcoulterguitar.com/event/fire-grace-ash-4/
LOCATION:Kuumbwa Jazz Center\, 320-2 Cedar Street\, Santa Cruz\, CA\, 95060\, United States
END:VEVENT
END:VCALENDAR