BEGIN:VCALENDAR
VERSION:2.0
PRODID:-//William Coulter - ECPv5.12.4//NONSGML v1.0//EN
CALSCALE:GREGORIAN
METHOD:PUBLISH
X-WR-CALNAME:William Coulter
X-ORIGINAL-URL:https://williamcoulterguitar.com
X-WR-CALDESC:Events for William Coulter
BEGIN:VTIMEZONE
TZID:UTC
BEGIN:STANDARD
TZOFFSETFROM:+0000
TZOFFSETTO:+0000
TZNAME:UTC
DTSTART:20220101T000000
END:STANDARD
END:VTIMEZONE
BEGIN:VEVENT
DTSTART;TZID=UTC:20220430T193000
DTEND;TZID=UTC:20220430T193000
DTSTAMP:20260421T094616
CREATED:20220122T235741Z
LAST-MODIFIED:20220123T000350Z
UID:1525-1651347000-1651347000@williamcoulterguitar.com
SUMMARY:Fire & Grace & Ash
DESCRIPTION:Concert in Cleveland. Details coming soon.
URL:https://williamcoulterguitar.com/event/fire-grace-ash-6/
END:VEVENT
END:VCALENDAR