BEGIN:VCALENDAR
VERSION:2.0
PRODID:-//William Coulter - ECPv5.12.4//NONSGML v1.0//EN
CALSCALE:GREGORIAN
METHOD:PUBLISH
X-WR-CALNAME:William Coulter
X-ORIGINAL-URL:https://williamcoulterguitar.com
X-WR-CALDESC:Events for William Coulter
BEGIN:VTIMEZONE
TZID:UTC
BEGIN:STANDARD
TZOFFSETFROM:+0000
TZOFFSETTO:+0000
TZNAME:UTC
DTSTART:20170101T000000
END:STANDARD
END:VTIMEZONE
BEGIN:VEVENT
DTSTART;VALUE=DATE:20170406
DTEND;VALUE=DATE:20170408
DTSTAMP:20260421T173603
CREATED:20170311T163907Z
LAST-MODIFIED:20170313T161941Z
UID:532-1491436800-1491609599@williamcoulterguitar.com
SUMMARY:Fire & Grace performing in New Zealand!
DESCRIPTION:So excited to playing in New Zealand. Playing at these 2 festivals: \nhttp://www.festivalofcolour.co.nz/            http://upsurgefestival.co.nz/
URL:https://williamcoulterguitar.com/event/fire-grace-performing-in-new-zealand/
END:VEVENT
END:VCALENDAR