BEGIN:VCALENDAR
VERSION:2.0
PRODID:-//William Coulter - ECPv5.12.4//NONSGML v1.0//EN
CALSCALE:GREGORIAN
METHOD:PUBLISH
X-WR-CALNAME:William Coulter
X-ORIGINAL-URL:https://williamcoulterguitar.com
X-WR-CALDESC:Events for William Coulter
BEGIN:VTIMEZONE
TZID:UTC
BEGIN:STANDARD
TZOFFSETFROM:+0000
TZOFFSETTO:+0000
TZNAME:UTC
DTSTART:20140101T000000
END:STANDARD
END:VTIMEZONE
BEGIN:VEVENT
DTSTART;TZID=UTC:20140610T193000
DTEND;TZID=UTC:20140610T193000
DTSTAMP:20260421T173736
CREATED:20140512T233708Z
LAST-MODIFIED:20140512T233742Z
UID:271-1402428600-1402428600@williamcoulterguitar.com
SUMMARY:William Coulter\, Adam Werner\, and Michael Manring
DESCRIPTION:Join us for an evening of great music\, all playing solo and maybe some together. Michael Manring is a great musician and legendary pioneer bass player. Adam is a fine guitarist and great tapper!
URL:https://williamcoulterguitar.com/event/guitar-night-with-william-coulter-adam-werner-and-michael-manring/
LOCATION:Don Quixote’s Music Hall\, 6275 Hwy 9\, Felton\, CA\, United States
END:VEVENT
END:VCALENDAR