BEGIN:VCALENDAR
VERSION:2.0
PRODID:-//William Coulter - ECPv5.12.4//NONSGML v1.0//EN
CALSCALE:GREGORIAN
METHOD:PUBLISH
X-WR-CALNAME:William Coulter
X-ORIGINAL-URL:https://williamcoulterguitar.com
X-WR-CALDESC:Events for William Coulter
BEGIN:VTIMEZONE
TZID:UTC
BEGIN:STANDARD
TZOFFSETFROM:+0000
TZOFFSETTO:+0000
TZNAME:UTC
DTSTART:20180101T000000
END:STANDARD
END:VTIMEZONE
BEGIN:VEVENT
DTSTART;VALUE=DATE:20180331
DTEND;VALUE=DATE:20180401
DTSTAMP:20260421T141504
CREATED:20180319T181726Z
LAST-MODIFIED:20191113T203454Z
UID:690-1522454400-1522486800@williamcoulterguitar.com
SUMMARY:House Concert
DESCRIPTION:Touring with Edwin Huizinga: Fire & Grace
URL:https://williamcoulterguitar.com/event/house-concert-2/
LOCATION:Carmel Valley\, Carmel Valley\, CA\, United States
CATEGORIES:Fire & Grace
END:VEVENT
END:VCALENDAR