BEGIN:VCALENDAR
VERSION:2.0
PRODID:-//William Coulter - ECPv5.12.4//NONSGML v1.0//EN
CALSCALE:GREGORIAN
METHOD:PUBLISH
X-WR-CALNAME:William Coulter
X-ORIGINAL-URL:https://williamcoulterguitar.com
X-WR-CALDESC:Events for William Coulter
BEGIN:VTIMEZONE
TZID:UTC
BEGIN:STANDARD
TZOFFSETFROM:+0000
TZOFFSETTO:+0000
TZNAME:UTC
DTSTART:20150101T000000
END:STANDARD
END:VTIMEZONE
BEGIN:VEVENT
DTSTART;TZID=UTC:20150211T190000
DTEND;TZID=UTC:20150211T210000
DTSTAMP:20260421T173716
CREATED:20150115T184651Z
LAST-MODIFIED:20150115T185419Z
UID:342-1423681200-1423688400@williamcoulterguitar.com
SUMMARY:William Coulter & Edwin Huizinga House Concert
DESCRIPTION:I will be teaming up with an amazing violinist – Edwin Huizinga for this house concert in SLO. Details soon. Playing Celtic and Classical Folk Baroque Fusion! Edwin will also be playing with the gifted pianist Ian Scarfe. \nwww.edwinhuizinga.com
URL:https://williamcoulterguitar.com/event/house-concert-in-san-luis-obispo/
END:VEVENT
END:VCALENDAR