BEGIN:VCALENDAR
VERSION:2.0
PRODID:-//William Coulter - ECPv5.12.4//NONSGML v1.0//EN
CALSCALE:GREGORIAN
METHOD:PUBLISH
X-WR-CALNAME:William Coulter
X-ORIGINAL-URL:https://williamcoulterguitar.com
X-WR-CALDESC:Events for William Coulter
BEGIN:VTIMEZONE
TZID:UTC
BEGIN:STANDARD
TZOFFSETFROM:+0000
TZOFFSETTO:+0000
TZNAME:UTC
DTSTART:20180101T000000
END:STANDARD
END:VTIMEZONE
BEGIN:VEVENT
DTSTART;VALUE=DATE:20180328
DTEND;VALUE=DATE:20180329
DTSTAMP:20260421T094825
CREATED:20180319T181326Z
LAST-MODIFIED:20180319T182600Z
UID:681-1522195200-1522281599@williamcoulterguitar.com
SUMMARY:House Concert
DESCRIPTION:Touring with Edwin Huizinga: Fire & Grace
URL:https://williamcoulterguitar.com/event/house-concert/
LOCATION:San Luis Obispo\, San Luis Obispo\, CA\, United States
END:VEVENT
END:VCALENDAR