BEGIN:VCALENDAR
VERSION:2.0
PRODID:-//William Coulter - ECPv5.12.4//NONSGML v1.0//EN
CALSCALE:GREGORIAN
METHOD:PUBLISH
X-WR-CALNAME:William Coulter
X-ORIGINAL-URL:https://williamcoulterguitar.com
X-WR-CALDESC:Events for William Coulter
BEGIN:VTIMEZONE
TZID:UTC
BEGIN:STANDARD
TZOFFSETFROM:+0000
TZOFFSETTO:+0000
TZNAME:UTC
DTSTART:20180101T000000
END:STANDARD
END:VTIMEZONE
BEGIN:VEVENT
DTSTART;VALUE=DATE:20180322
DTEND;VALUE=DATE:20180323
DTSTAMP:20260421T133421
CREATED:20180319T181029Z
LAST-MODIFIED:20180319T182448Z
UID:674-1521676800-1521763199@williamcoulterguitar.com
SUMMARY:Isabel Bader Centre for the Performing Arts
DESCRIPTION:Touring with Edwin Huizinga: Fire & Grace
URL:https://williamcoulterguitar.com/event/isabel-bader-centre-for-the-performing-arts/
LOCATION:Isabel Bader Center for the Performing Arts\, Kingston\, ON\, Canada
END:VEVENT
END:VCALENDAR