BEGIN:VCALENDAR
VERSION:2.0
PRODID:-//William Coulter - ECPv5.12.4//NONSGML v1.0//EN
CALSCALE:GREGORIAN
METHOD:PUBLISH
X-WR-CALNAME:William Coulter
X-ORIGINAL-URL:https://williamcoulterguitar.com
X-WR-CALDESC:Events for William Coulter
BEGIN:VTIMEZONE
TZID:UTC
BEGIN:STANDARD
TZOFFSETFROM:+0000
TZOFFSETTO:+0000
TZNAME:UTC
DTSTART:20160101T000000
END:STANDARD
END:VTIMEZONE
BEGIN:VEVENT
DTSTART;TZID=UTC:20160422T193000
DTEND;TZID=UTC:20160422T213000
DTSTAMP:20260421T155250
CREATED:20160312T030830Z
LAST-MODIFIED:20160315T023323Z
UID:487-1461353400-1461360600@williamcoulterguitar.com
SUMMARY:Liquid Gold - Edwin Huizing & William Coulter
DESCRIPTION:A lovely venue on Vashon Island. Opening act is Kat Eggleston. Tickets at Vashon Bookstore. For more info e-mail Laurie at bevanstewart@msn.com.
URL:https://williamcoulterguitar.com/event/liquid-gold-edwin-huizing-william-coulter/
LOCATION:The Havurah on Vashon\, 15401 Westside Hwy SW\, Vashon Island\, Vashon\, WA\, United States
END:VEVENT
END:VCALENDAR