BEGIN:VCALENDAR
VERSION:2.0
PRODID:-//William Coulter - ECPv5.12.4//NONSGML v1.0//EN
CALSCALE:GREGORIAN
METHOD:PUBLISH
X-WR-CALNAME:William Coulter
X-ORIGINAL-URL:https://williamcoulterguitar.com
X-WR-CALDESC:Events for William Coulter
BEGIN:VTIMEZONE
TZID:UTC
BEGIN:STANDARD
TZOFFSETFROM:+0000
TZOFFSETTO:+0000
TZNAME:UTC
DTSTART:20160101T000000
END:STANDARD
END:VTIMEZONE
BEGIN:VEVENT
DTSTART;TZID=UTC:20160504T190000
DTEND;TZID=UTC:20160504T210000
DTSTAMP:20260421T124920
CREATED:20160308T032359Z
LAST-MODIFIED:20160308T032359Z
UID:451-1462388400-1462395600@williamcoulterguitar.com
SUMMARY:Liquid Gold - William Coulter & Edwin Huizinga
DESCRIPTION:House concert in San Luis Obispo – location TBA.
URL:https://williamcoulterguitar.com/event/liquid-gold-william-coulter-edwin-huizinga-10/
END:VEVENT
END:VCALENDAR