BEGIN:VCALENDAR
VERSION:2.0
PRODID:-//William Coulter - ECPv5.12.4//NONSGML v1.0//EN
CALSCALE:GREGORIAN
METHOD:PUBLISH
X-WR-CALNAME:William Coulter
X-ORIGINAL-URL:https://williamcoulterguitar.com
X-WR-CALDESC:Events for William Coulter
BEGIN:VTIMEZONE
TZID:UTC
BEGIN:STANDARD
TZOFFSETFROM:+0000
TZOFFSETTO:+0000
TZNAME:UTC
DTSTART:20160101T000000
END:STANDARD
END:VTIMEZONE
BEGIN:VEVENT
DTSTART;TZID=UTC:20160505T070000
DTEND;TZID=UTC:20160505T210000
DTSTAMP:20260421T125415
CREATED:20160308T032452Z
LAST-MODIFIED:20160308T032452Z
UID:453-1462431600-1462482000@williamcoulterguitar.com
SUMMARY:Liquid Gold - William Coulter & Edwin Huizinga
DESCRIPTION:Private concert in Big Sur.
URL:https://williamcoulterguitar.com/event/liquid-gold-william-coulter-edwin-huizinga-11/
END:VEVENT
END:VCALENDAR