BEGIN:VCALENDAR
VERSION:2.0
PRODID:-//William Coulter - ECPv5.12.4//NONSGML v1.0//EN
CALSCALE:GREGORIAN
METHOD:PUBLISH
X-WR-CALNAME:William Coulter
X-ORIGINAL-URL:https://williamcoulterguitar.com
X-WR-CALDESC:Events for William Coulter
BEGIN:VTIMEZONE
TZID:UTC
BEGIN:STANDARD
TZOFFSETFROM:+0000
TZOFFSETTO:+0000
TZNAME:UTC
DTSTART:20160101T000000
END:STANDARD
END:VTIMEZONE
BEGIN:VEVENT
DTSTART;TZID=UTC:20160507T193000
DTEND;TZID=UTC:20160507T220000
DTSTAMP:20260421T124810
CREATED:20160413T201942Z
LAST-MODIFIED:20160413T201942Z
UID:496-1462649400-1462658400@williamcoulterguitar.com
SUMMARY:Liquid Gold - William Coulter & Edwin Huizinga
DESCRIPTION:Finally playing in my home town of Santa Cruz! Sponsored by the Community Music School. At the lovely St. Johns Episcopal Church in Aptos. Tickets from Brown Paper Tickets. Thanks to Shelley for presenting us and she may even join for a few tunes! \nTickets here: \nhttp://www.brownpapertickets.com/event/2540262
URL:https://williamcoulterguitar.com/event/liquid-gold-william-coulter-edwin-huizinga-12/
LOCATION:St John’s Episcopal Church\, Aptos\, CA\, United States
END:VEVENT
END:VCALENDAR