BEGIN:VCALENDAR
VERSION:2.0
PRODID:-//William Coulter - ECPv5.12.4//NONSGML v1.0//EN
CALSCALE:GREGORIAN
METHOD:PUBLISH
X-WR-CALNAME:William Coulter
X-ORIGINAL-URL:https://williamcoulterguitar.com
X-WR-CALDESC:Events for William Coulter
BEGIN:VTIMEZONE
TZID:UTC
BEGIN:STANDARD
TZOFFSETFROM:+0000
TZOFFSETTO:+0000
TZNAME:UTC
DTSTART:20160101T000000
END:STANDARD
END:VTIMEZONE
BEGIN:VEVENT
DTSTART;TZID=UTC:20160427T193000
DTEND;TZID=UTC:20160427T193000
DTSTAMP:20260421T124705
CREATED:20151020T203304Z
LAST-MODIFIED:20160415T210321Z
UID:413-1461785400-1461785400@williamcoulterguitar.com
SUMMARY:Liquid Gold - William Coulter & Edwin Huizinga
DESCRIPTION:House concert at Guetenberg College in Eugene. Hosted by the great Irish uilleann piper Eliot Grasso. Might even play a few tunes with him! Details coming. \nhttp://liquidgold.brownpapertickets.com/
URL:https://williamcoulterguitar.com/event/liquid-gold-william-coulter-edwin-huizinga-5/
END:VEVENT
END:VCALENDAR