BEGIN:VCALENDAR
VERSION:2.0
PRODID:-//William Coulter - ECPv5.12.4//NONSGML v1.0//EN
CALSCALE:GREGORIAN
METHOD:PUBLISH
X-WR-CALNAME:William Coulter
X-ORIGINAL-URL:https://williamcoulterguitar.com
X-WR-CALDESC:Events for William Coulter
BEGIN:VTIMEZONE
TZID:UTC
BEGIN:STANDARD
TZOFFSETFROM:+0000
TZOFFSETTO:+0000
TZNAME:UTC
DTSTART:20160101T000000
END:STANDARD
END:VTIMEZONE
BEGIN:VEVENT
DTSTART;TZID=UTC:20160428T193000
DTEND;TZID=UTC:20160428T193000
DTSTAMP:20260421T142616
CREATED:20151020T203542Z
LAST-MODIFIED:20160308T043836Z
UID:415-1461871800-1461871800@williamcoulterguitar.com
SUMMARY:Liquid Gold William Coulter & Edwin Huizinga
DESCRIPTION:Concert presented by the Corvallis Folklore Society. With special guest Annie Staninec!\nThe Troubadour (521 SW 2nd St\, Corvallis) at 7:30.  Admission is $18 in advance & $20 at the door\, with $2 discount for CFS members.  For more info contact Van Fister vanfister1@msn.com \nfor tickets go here: \nhttp://corvallisfolklore.org/home/calendar/action~agenda/page_offset~1/time_limit~1460860201/request_format~html/
URL:https://williamcoulterguitar.com/event/liquid-gold-william-coulter-edwin-huizinga-6/
LOCATION:The Troubadour Music Center\, Corvallis OR
END:VEVENT
END:VCALENDAR