BEGIN:VCALENDAR
VERSION:2.0
PRODID:-//William Coulter - ECPv5.12.4//NONSGML v1.0//EN
CALSCALE:GREGORIAN
METHOD:PUBLISH
X-WR-CALNAME:William Coulter
X-ORIGINAL-URL:https://williamcoulterguitar.com
X-WR-CALDESC:Events for William Coulter
BEGIN:VTIMEZONE
TZID:UTC
BEGIN:STANDARD
TZOFFSETFROM:+0000
TZOFFSETTO:+0000
TZNAME:UTC
DTSTART:20160101T000000
END:STANDARD
END:VTIMEZONE
BEGIN:VEVENT
DTSTART;TZID=UTC:20160426T193000
DTEND;TZID=UTC:20160426T193000
DTSTAMP:20260421T155619
CREATED:20151020T202934Z
LAST-MODIFIED:20160308T044147Z
UID:411-1461699000-1461699000@williamcoulterguitar.com
SUMMARY:Liquid Gold with special guest Annie Staninec
DESCRIPTION:Join Edwin and I and this amazing young fiddler from the bluegrass world! Wonderful house concert venue. \nAbbie Weisenbloom Presents
URL:https://williamcoulterguitar.com/event/liquid-gold-with-special-guest-annie-staninec/
LOCATION:Abbie Weisenbloom Presents
END:VEVENT
END:VCALENDAR