BEGIN:VCALENDAR
VERSION:2.0
PRODID:-//William Coulter - ECPv5.12.4//NONSGML v1.0//EN
CALSCALE:GREGORIAN
METHOD:PUBLISH
X-WR-CALNAME:William Coulter
X-ORIGINAL-URL:https://williamcoulterguitar.com
X-WR-CALDESC:Events for William Coulter
BEGIN:VTIMEZONE
TZID:UTC
BEGIN:STANDARD
TZOFFSETFROM:+0000
TZOFFSETTO:+0000
TZNAME:UTC
DTSTART:20140101T000000
END:STANDARD
END:VTIMEZONE
BEGIN:VEVENT
DTSTART;VALUE=DATE:20140727
DTEND;VALUE=DATE:20140804
DTSTAMP:20260421T192033
CREATED:20140125T232512Z
LAST-MODIFIED:20140125T232512Z
UID:176-1406419200-1407110399@williamcoulterguitar.com
SUMMARY:On tour with Boxwood Artists
DESCRIPTION:Annual post Boxwood tour throughout Nova Scotia\, dates TBA soon.
URL:https://williamcoulterguitar.com/event/on-tour-with-boxwood-artists/
LOCATION:Nova Scotia
END:VEVENT
END:VCALENDAR