BEGIN:VCALENDAR
VERSION:2.0
PRODID:-//William Coulter - ECPv5.12.4//NONSGML v1.0//EN
CALSCALE:GREGORIAN
METHOD:PUBLISH
X-WR-CALNAME:William Coulter
X-ORIGINAL-URL:https://williamcoulterguitar.com
X-WR-CALDESC:Events for William Coulter
BEGIN:VTIMEZONE
TZID:UTC
BEGIN:STANDARD
TZOFFSETFROM:+0000
TZOFFSETTO:+0000
TZNAME:UTC
DTSTART:20150101T000000
END:STANDARD
END:VTIMEZONE
BEGIN:VEVENT
DTSTART;TZID=UTC:20150623T080000
DTEND;TZID=UTC:20150623T170000
DTSTAMP:20260421T142311
CREATED:20150623T193454Z
LAST-MODIFIED:20150623T193454Z
UID:375-1435046400-1435078800@williamcoulterguitar.com
SUMMARY:One Lane Bridge
DESCRIPTION:Concert.
URL:https://williamcoulterguitar.com/event/one-lane-bridge-2/
END:VEVENT
END:VCALENDAR