BEGIN:VCALENDAR
VERSION:2.0
PRODID:-//William Coulter - ECPv5.12.4//NONSGML v1.0//EN
CALSCALE:GREGORIAN
METHOD:PUBLISH
X-WR-CALNAME:William Coulter
X-ORIGINAL-URL:https://williamcoulterguitar.com
X-WR-CALDESC:Events for William Coulter
BEGIN:VTIMEZONE
TZID:UTC
BEGIN:STANDARD
TZOFFSETFROM:+0000
TZOFFSETTO:+0000
TZNAME:UTC
DTSTART:20140101T000000
END:STANDARD
END:VTIMEZONE
BEGIN:VEVENT
DTSTART;TZID=UTC:20140907T150000
DTEND;TZID=UTC:20140907T170000
DTSTAMP:20260421T173531
CREATED:20140816T074133Z
LAST-MODIFIED:20140816T074133Z
UID:298-1410102000-1410109200@williamcoulterguitar.com
SUMMARY:One Lane Bridge CD Release Concert
DESCRIPTION:Come celebrate the release of our first Trio CD – One Lane Bridge Music from Ireland\, Galicia\, JS Bach\, new tunes and old favorites!
URL:https://williamcoulterguitar.com/event/one-lane-bridge-cd-release-concert-2/
LOCATION:Central Presbyterian Church\, 325 Central Ave\, Pacific Grove\, CA\, United States
ORGANIZER;CN="Jackie%20Pierce":MAILTO:jpierce@horanlegal.com
END:VEVENT
END:VCALENDAR