BEGIN:VCALENDAR
VERSION:2.0
PRODID:-//William Coulter - ECPv5.12.4//NONSGML v1.0//EN
CALSCALE:GREGORIAN
METHOD:PUBLISH
X-WR-CALNAME:William Coulter
X-ORIGINAL-URL:https://williamcoulterguitar.com
X-WR-CALDESC:Events for William Coulter
BEGIN:VTIMEZONE
TZID:UTC
BEGIN:STANDARD
TZOFFSETFROM:+0000
TZOFFSETTO:+0000
TZNAME:UTC
DTSTART:20140101T000000
END:STANDARD
END:VTIMEZONE
BEGIN:VEVENT
DTSTART;TZID=UTC:20140906T193000
DTEND;TZID=UTC:20140906T220000
DTSTAMP:20260421T173420
CREATED:20140816T051607Z
LAST-MODIFIED:20140816T051607Z
UID:296-1410031800-1410040800@williamcoulterguitar.com
SUMMARY:One Lane Bridge CD Release Concert
DESCRIPTION:Come celebrate the release of our first Trio CD – One Lane Bridge \nMusic from Ireland\, Galicia\, JS Bach\, new tunes and old favorites! \n 
URL:https://williamcoulterguitar.com/event/one-lane-bridge-cd-release-concert/
LOCATION:Pacifica Performances\, Pacifica\, CA\, United States
END:VEVENT
END:VCALENDAR