BEGIN:VCALENDAR
VERSION:2.0
PRODID:-//William Coulter - ECPv5.12.4//NONSGML v1.0//EN
CALSCALE:GREGORIAN
METHOD:PUBLISH
X-WR-CALNAME:William Coulter
X-ORIGINAL-URL:https://williamcoulterguitar.com
X-WR-CALDESC:Events for William Coulter
BEGIN:VTIMEZONE
TZID:UTC
BEGIN:STANDARD
TZOFFSETFROM:+0000
TZOFFSETTO:+0000
TZNAME:UTC
DTSTART:20150101T000000
END:STANDARD
END:VTIMEZONE
BEGIN:VEVENT
DTSTART;TZID=UTC:20150206T190000
DTEND;TZID=UTC:20150206T210000
DTSTAMP:20260421T221956
CREATED:20150115T184233Z
LAST-MODIFIED:20150115T184233Z
UID:340-1423249200-1423256400@williamcoulterguitar.com
SUMMARY:One Lane Bridge House Concert
DESCRIPTION:Playing a lovely house concert in Lockwood CA. More details coming soon.
URL:https://williamcoulterguitar.com/event/one-lane-bridge-house-concert-2/
LOCATION:Lockwood House Concert
END:VEVENT
END:VCALENDAR