BEGIN:VCALENDAR
VERSION:2.0
PRODID:-//William Coulter - ECPv5.12.4//NONSGML v1.0//EN
CALSCALE:GREGORIAN
METHOD:PUBLISH
X-WR-CALNAME:William Coulter
X-ORIGINAL-URL:https://williamcoulterguitar.com
X-WR-CALDESC:Events for William Coulter
BEGIN:VTIMEZONE
TZID:UTC
BEGIN:STANDARD
TZOFFSETFROM:+0000
TZOFFSETTO:+0000
TZNAME:UTC
DTSTART:20150101T000000
END:STANDARD
END:VTIMEZONE
BEGIN:VEVENT
DTSTART;TZID=UTC:20150923T193000
DTEND;TZID=UTC:20150925T220000
DTSTAMP:20260421T155213
CREATED:20150623T193317Z
LAST-MODIFIED:20150702T032826Z
UID:374-1443036600-1443218400@williamcoulterguitar.com
SUMMARY:One Lane Bridge
DESCRIPTION:Don Quixote’s Music Hall in Felton\nSponsored by the Celtic Society of the Monterey Bay. \nhttp://www.donquixotesmusic.info/
URL:https://williamcoulterguitar.com/event/one-lane-bridge/
END:VEVENT
END:VCALENDAR