BEGIN:VCALENDAR
VERSION:2.0
PRODID:-//William Coulter - ECPv5.12.4//NONSGML v1.0//EN
CALSCALE:GREGORIAN
METHOD:PUBLISH
X-WR-CALNAME:William Coulter
X-ORIGINAL-URL:https://williamcoulterguitar.com
X-WR-CALDESC:Events for William Coulter
BEGIN:VTIMEZONE
TZID:UTC
BEGIN:STANDARD
TZOFFSETFROM:+0000
TZOFFSETTO:+0000
TZNAME:UTC
DTSTART:20180101T000000
END:STANDARD
END:VTIMEZONE
BEGIN:VEVENT
DTSTART;VALUE=DATE:20180320
DTEND;VALUE=DATE:20180321
DTSTAMP:20260421T100636
CREATED:20180315T221240Z
LAST-MODIFIED:20180315T221240Z
UID:645-1521504000-1521590399@williamcoulterguitar.com
SUMMARY:Port William Sound presents Fire & Grace at the Cardinal Café
DESCRIPTION:Touring with Edwin Huizinga: Fire & Grace
URL:https://williamcoulterguitar.com/event/port-william-sound-presents-fire-grace-at-the-cardinal-cafe/
LOCATION:Cardinal Café\, Sharbot Lake\, ON\, Canada
END:VEVENT
END:VCALENDAR