BEGIN:VCALENDAR
VERSION:2.0
PRODID:-//William Coulter - ECPv5.12.4//NONSGML v1.0//EN
CALSCALE:GREGORIAN
METHOD:PUBLISH
X-WR-CALNAME:William Coulter
X-ORIGINAL-URL:https://williamcoulterguitar.com
X-WR-CALDESC:Events for William Coulter
BEGIN:VTIMEZONE
TZID:UTC
BEGIN:STANDARD
TZOFFSETFROM:+0000
TZOFFSETTO:+0000
TZNAME:UTC
DTSTART:20150101T000000
END:STANDARD
END:VTIMEZONE
BEGIN:VEVENT
DTSTART;VALUE=DATE:20150725
DTEND;VALUE=DATE:20150901
DTSTAMP:20260421T142336
CREATED:20150623T193118Z
LAST-MODIFIED:20150623T193118Z
UID:371-1437782400-1441065599@williamcoulterguitar.com
SUMMARY:Puget Sound Guitar Workshop
DESCRIPTION:One of my favorite Music Camps – near Seattle.
URL:https://williamcoulterguitar.com/event/puget-sound-guitar-workshop/
LOCATION:Puget Sound Guitar Workshop
END:VEVENT
END:VCALENDAR