BEGIN:VCALENDAR
VERSION:2.0
PRODID:-//William Coulter - ECPv5.12.4//NONSGML v1.0//EN
CALSCALE:GREGORIAN
METHOD:PUBLISH
X-WR-CALNAME:William Coulter
X-ORIGINAL-URL:https://williamcoulterguitar.com
X-WR-CALDESC:Events for William Coulter
BEGIN:VTIMEZONE
TZID:UTC
BEGIN:STANDARD
TZOFFSETFROM:+0000
TZOFFSETTO:+0000
TZNAME:UTC
DTSTART:20140101T000000
END:STANDARD
END:VTIMEZONE
BEGIN:VEVENT
DTSTART;TZID=UTC:20140302T200000
DTEND;TZID=UTC:20140302T200000
DTSTAMP:20260421T223141
CREATED:20140112T000931Z
LAST-MODIFIED:20140112T001248Z
UID:129-1393790400-1393790400@williamcoulterguitar.com
SUMMARY:Sharing a concert with Alex DeGrassi and Evan Hirschelman
DESCRIPTION:As part of the Santa Cruz County Art of Guitar Exhibit and Festival. This concert will take place at the Blitzer Gallery on the Westside of Santa Cruz in the old Wrigley Building. \nAt this concert Alex will be debuting a new guitar built by Fred Carlson The Humanitar.
URL:https://williamcoulterguitar.com/event/sharing-a-concert-with-alex-degrassi-and-evan-hirschelman/
LOCATION:Bltizer Gallery\, Wrigley Building \, Santa Cruz\, 95060
END:VEVENT
END:VCALENDAR