BEGIN:VCALENDAR
VERSION:2.0
PRODID:-//William Coulter - ECPv5.12.4//NONSGML v1.0//EN
CALSCALE:GREGORIAN
METHOD:PUBLISH
X-WR-CALNAME:William Coulter
X-ORIGINAL-URL:https://williamcoulterguitar.com
X-WR-CALDESC:Events for William Coulter
BEGIN:VTIMEZONE
TZID:UTC
BEGIN:STANDARD
TZOFFSETFROM:+0000
TZOFFSETTO:+0000
TZNAME:UTC
DTSTART:20140101T000000
END:STANDARD
END:VTIMEZONE
BEGIN:VEVENT
DTSTART;VALUE=DATE:20140719
DTEND;VALUE=DATE:20140728
DTSTAMP:20260421T155910
CREATED:20140125T232541Z
LAST-MODIFIED:20140131T011658Z
UID:169-1405728000-1406505599@williamcoulterguitar.com
SUMMARY:Teaching and Performing at Boxwood Music Camp in Lunnenberg\, Nova Scotia
DESCRIPTION:Join us in beautiful Lunenburg\, Nova Scotia to discover music\, ballad\, and dance traditions amid one of North America’s most exquisite 18th century seaside towns. Boxwood presents a full range of classes with world renowned experts in the realms of traditional folk\, early music\, and dance. The flute is center stage along with a myriad of other instruments\, voice\, and the energy of dance. Boxwood will inspire the creative spirit of every participant with its concerts\, dances\, sessions\, classes\, and lectures along with handmade local food in the heart of Nova Scotia’s beautiful South Shore. The Boxwood experience brings together kindred spirits from all over the world creating lasting friendships\, nourishing music\, and soulful fun in a unique festival and workshop program that is completely non-competitive.
URL:https://williamcoulterguitar.com/event/teaching-and-performing-at-boxwood-music-camp-in-lunnenberg-nova-scotia/
LOCATION:Boxwood Festival\, Lunenburg\, NS\, B0J2C0\, Canada
END:VEVENT
END:VCALENDAR