BEGIN:VCALENDAR
VERSION:2.0
PRODID:-//William Coulter - ECPv5.12.4//NONSGML v1.0//EN
CALSCALE:GREGORIAN
METHOD:PUBLISH
X-WR-CALNAME:William Coulter
X-ORIGINAL-URL:https://williamcoulterguitar.com
X-WR-CALDESC:Events for William Coulter
BEGIN:VTIMEZONE
TZID:UTC
BEGIN:STANDARD
TZOFFSETFROM:+0000
TZOFFSETTO:+0000
TZNAME:UTC
DTSTART:20180101T000000
END:STANDARD
END:VTIMEZONE
BEGIN:VEVENT
DTSTART;VALUE=DATE:20180407
DTEND;VALUE=DATE:20180408
DTSTAMP:20260421T095918
CREATED:20180315T221717Z
LAST-MODIFIED:20191113T203427Z
UID:655-1523059200-1523145599@williamcoulterguitar.com
SUMMARY:The Peninsula Guitar Series
DESCRIPTION:Touring with Edwin Huizinga: Fire & Grace
URL:https://williamcoulterguitar.com/event/the-peninsula-guitar-series/
LOCATION:Peninsula Guitar Series\, San Bruno\, CA
CATEGORIES:Fire & Grace
END:VEVENT
END:VCALENDAR