BEGIN:VCALENDAR
VERSION:2.0
PRODID:-//William Coulter - ECPv5.12.4//NONSGML v1.0//EN
CALSCALE:GREGORIAN
METHOD:PUBLISH
X-WR-CALNAME:William Coulter
X-ORIGINAL-URL:https://williamcoulterguitar.com
X-WR-CALDESC:Events for William Coulter
BEGIN:VTIMEZONE
TZID:UTC
BEGIN:STANDARD
TZOFFSETFROM:+0000
TZOFFSETTO:+0000
TZNAME:UTC
DTSTART:20140101T000000
END:STANDARD
END:VTIMEZONE
BEGIN:VEVENT
DTSTART;TZID=UTC:20140316T140000
DTEND;TZID=UTC:20140316T140000
DTSTAMP:20260421T173625
CREATED:20140109T001723Z
LAST-MODIFIED:20140109T001723Z
UID:105-1394978400-1394978400@williamcoulterguitar.com
SUMMARY:Tomaseen Foley's Irish Times
DESCRIPTION:
URL:https://williamcoulterguitar.com/event/tomaseen-foleys-irish-times-2/
LOCATION:SUNY Westchester Community College\, Valhalla\,  NY 10595\, United States
END:VEVENT
END:VCALENDAR