BEGIN:VCALENDAR
VERSION:2.0
PRODID:-//William Coulter - ECPv5.12.4//NONSGML v1.0//EN
CALSCALE:GREGORIAN
METHOD:PUBLISH
X-WR-CALNAME:William Coulter
X-ORIGINAL-URL:https://williamcoulterguitar.com
X-WR-CALDESC:Events for William Coulter
BEGIN:VTIMEZONE
TZID:UTC
BEGIN:STANDARD
TZOFFSETFROM:+0000
TZOFFSETTO:+0000
TZNAME:UTC
DTSTART:20160101T000000
END:STANDARD
END:VTIMEZONE
BEGIN:VEVENT
DTSTART;TZID=UTC:20161002T190000
DTEND;TZID=UTC:20161002T210000
DTSTAMP:20260421T144056
CREATED:20160723T012502Z
LAST-MODIFIED:20160723T012502Z
UID:513-1475434800-1475442000@williamcoulterguitar.com
SUMMARY:Tomaseen Foley’s Irish Times with special guests William Coulter & Edwin Huizinga
DESCRIPTION:Intimate House Concert in Santa Cruz. For reservations e-mail billski@ucsc.edu.
URL:https://williamcoulterguitar.com/event/tomaseen-foleys-irish-times-with-special-guests-william-coulter-edwin-huizinga-2/
LOCATION:Irene’s House\, Santa Cruz 
END:VEVENT
END:VCALENDAR