BEGIN:VCALENDAR
VERSION:2.0
PRODID:-//William Coulter - ECPv5.12.4//NONSGML v1.0//EN
CALSCALE:GREGORIAN
METHOD:PUBLISH
X-WR-CALNAME:William Coulter
X-ORIGINAL-URL:https://williamcoulterguitar.com
X-WR-CALDESC:Events for William Coulter
BEGIN:VTIMEZONE
TZID:UTC
BEGIN:STANDARD
TZOFFSETFROM:+0000
TZOFFSETTO:+0000
TZNAME:UTC
DTSTART:20160101T000000
END:STANDARD
END:VTIMEZONE
BEGIN:VEVENT
DTSTART;TZID=UTC:20160929T193000
DTEND;TZID=UTC:20160929T220000
DTSTAMP:20260421T143756
CREATED:20160723T012241Z
LAST-MODIFIED:20160723T012241Z
UID:510-1475177400-1475186400@williamcoulterguitar.com
SUMMARY:Tomaseen Foley's Irish Times with special guests William Coulter & Edwin Huizinga
DESCRIPTION:Special concert featuring native Irish Story Teller Tomaseen Foley – and myself and Edwin Huzinga and some special guests!
URL:https://williamcoulterguitar.com/event/tomaseen-foleys-irish-times-with-special-guests-william-coulter-edwin-huizinga/
LOCATION:Monterey Museum of Art\, Monterey\, United States
END:VEVENT
END:VCALENDAR