BEGIN:VCALENDAR
VERSION:2.0
PRODID:-//William Coulter - ECPv5.12.4//NONSGML v1.0//EN
CALSCALE:GREGORIAN
METHOD:PUBLISH
X-WR-CALNAME:William Coulter
X-ORIGINAL-URL:https://williamcoulterguitar.com
X-WR-CALDESC:Events for William Coulter
BEGIN:VTIMEZONE
TZID:UTC
BEGIN:STANDARD
TZOFFSETFROM:+0000
TZOFFSETTO:+0000
TZNAME:UTC
DTSTART:20150101T000000
END:STANDARD
END:VTIMEZONE
BEGIN:VEVENT
DTSTART;TZID=UTC:20150221T193000
DTEND;TZID=UTC:20150221T193000
DTSTAMP:20260421T142801
CREATED:20141001T001219Z
LAST-MODIFIED:20141001T001219Z
UID:313-1424547000-1424547000@williamcoulterguitar.com
SUMMARY:Treasures of the Irish Harp
DESCRIPTION:I am directing this Santa Cruz Baroque Festival Concert featuring music by Turlough O’Carolan and Sean O Riada.\nhttp://scbaroque.org/concerts.html
URL:https://williamcoulterguitar.com/event/treasures-of-the-irish-harp/
END:VEVENT
END:VCALENDAR