BEGIN:VCALENDAR
VERSION:2.0
PRODID:-//William Coulter - ECPv5.12.4//NONSGML v1.0//EN
CALSCALE:GREGORIAN
METHOD:PUBLISH
X-WR-CALNAME:William Coulter
X-ORIGINAL-URL:https://williamcoulterguitar.com
X-WR-CALDESC:Events for William Coulter
BEGIN:VTIMEZONE
TZID:UTC
BEGIN:STANDARD
TZOFFSETFROM:+0000
TZOFFSETTO:+0000
TZNAME:UTC
DTSTART:20200101T000000
END:STANDARD
END:VTIMEZONE
BEGIN:VEVENT
DTSTART;TZID=UTC:20200131T000000
DTEND;TZID=UTC:20200131T235900
DTSTAMP:20260421T094808
CREATED:20191113T194227Z
LAST-MODIFIED:20200108T193259Z
UID:815-1580428800-1580515140@williamcoulterguitar.com
SUMMARY:UCSC Faculty Concert
DESCRIPTION:With special guests Chris Mallett and Edwin Huizinga and more!
URL:https://williamcoulterguitar.com/event/ucsc-faculty-concert/
LOCATION:UC Santa Cruz Recital Hall\, 402 McHenry Rd\, Santa Cruz\, CA\, 95064\, United States
END:VEVENT
END:VCALENDAR