BEGIN:VCALENDAR
VERSION:2.0
PRODID:-//William Coulter - ECPv5.12.4//NONSGML v1.0//EN
CALSCALE:GREGORIAN
METHOD:PUBLISH
X-WR-CALNAME:William Coulter
X-ORIGINAL-URL:https://williamcoulterguitar.com
X-WR-CALDESC:Events for William Coulter
BEGIN:VTIMEZONE
TZID:UTC
BEGIN:STANDARD
TZOFFSETFROM:+0000
TZOFFSETTO:+0000
TZNAME:UTC
DTSTART:20150101T000000
END:STANDARD
END:VTIMEZONE
BEGIN:VEVENT
DTSTART;TZID=UTC:20150215T190000
DTEND;TZID=UTC:20150215T210000
DTSTAMP:20260421T191946
CREATED:20150115T185738Z
LAST-MODIFIED:20150115T185738Z
UID:348-1424026800-1424034000@williamcoulterguitar.com
SUMMARY:William Coulter & Edwin Huizinga House Concert
DESCRIPTION:Playing a lovely house concert in Santa Cruz at the home of Irene Hermann. \nE-mail me directly for details and reservations.
URL:https://williamcoulterguitar.com/event/william-coulter-edwin-huizinga-house-concert/
LOCATION:The Home of Irene Hermann
END:VEVENT
END:VCALENDAR